BEGIN:VCALENDAR
VERSION:2.0
PRODID:-//Prince Edward County Democratic Committee - ECPv6.15.17.1//NONSGML v1.0//EN
CALSCALE:GREGORIAN
METHOD:PUBLISH
X-ORIGINAL-URL:https://www.princeedwarddemocrats.org
X-WR-CALDESC:Events for Prince Edward County Democratic Committee
REFRESH-INTERVAL;VALUE=DURATION:PT1H
X-Robots-Tag:noindex
X-PUBLISHED-TTL:PT1H
BEGIN:VTIMEZONE
TZID:America/New_York
BEGIN:DAYLIGHT
TZOFFSETFROM:-0500
TZOFFSETTO:-0400
TZNAME:EDT
DTSTART:20250309T070000
END:DAYLIGHT
BEGIN:STANDARD
TZOFFSETFROM:-0400
TZOFFSETTO:-0500
TZNAME:EST
DTSTART:20251102T060000
END:STANDARD
BEGIN:DAYLIGHT
TZOFFSETFROM:-0500
TZOFFSETTO:-0400
TZNAME:EDT
DTSTART:20260308T070000
END:DAYLIGHT
BEGIN:STANDARD
TZOFFSETFROM:-0400
TZOFFSETTO:-0500
TZNAME:EST
DTSTART:20261101T060000
END:STANDARD
BEGIN:DAYLIGHT
TZOFFSETFROM:-0500
TZOFFSETTO:-0400
TZNAME:EDT
DTSTART:20270314T070000
END:DAYLIGHT
BEGIN:STANDARD
TZOFFSETFROM:-0400
TZOFFSETTO:-0500
TZNAME:EST
DTSTART:20271107T060000
END:STANDARD
END:VTIMEZONE
BEGIN:VEVENT
DTSTART;TZID=America/New_York:20260306T163000
DTEND;TZID=America/New_York:20260306T173000
DTSTAMP:20260419T132425
CREATED:20260213T161739Z
LAST-MODIFIED:20260303T000619Z
UID:932-1772814600-1772818200@www.princeedwarddemocrats.org
SUMMARY:Peaceful Farmville Protests for Justice Visibility Brigade
DESCRIPTION:Come join the Farmville Visibility Brigade\, come when you can. \nWe have simple message signs to share or bring your own. This is a collaborative effort of Peaceful Farmville Protest\, Standing Together Farmville\, One Table\, Phunkadelic & more. \nPeaceful activists welcome. And no one is getting paid-fyi. \nSign up
URL:https://www.princeedwarddemocrats.org/event/visibility-brigade-2/
LOCATION:Prince Edward County Courthouse Lawn\, 124 N Main St\, Farmville\, VA\, 23901\, United States
CATEGORIES:Protest
END:VEVENT
BEGIN:VEVENT
DTSTART;TZID=America/New_York:20260314T120000
DTEND;TZID=America/New_York:20260314T130000
DTSTAMP:20260419T132425
CREATED:20260301T231955Z
LAST-MODIFIED:20260303T000548Z
UID:962-1773489600-1773493200@www.princeedwarddemocrats.org
SUMMARY:Peaceful Farmville Protests for Justice Visibility Brigade
DESCRIPTION:Come join the Farmville Visibility Brigade\, come when you can. \nWe have simple message signs to share or bring your own. This is a collaborative effort of Peaceful Farmville Protest\, Standing Together Farmville\, One Table\, Phunkadelic & more. \nPeaceful activists welcome. And no one is getting paid-fyi. \nSign up
URL:https://www.princeedwarddemocrats.org/event/peaceful-farmville-protests-for-justice-visibility-brigade-2/
LOCATION:Prince Edward County Courthouse Lawn\, 124 N Main St\, Farmville\, VA\, 23901\, United States
CATEGORIES:Protest
END:VEVENT
BEGIN:VEVENT
DTSTART;TZID=America/New_York:20260320T163000
DTEND;TZID=America/New_York:20260320T173000
DTSTAMP:20260419T132425
CREATED:20260301T231859Z
LAST-MODIFIED:20260303T000519Z
UID:960-1774024200-1774027800@www.princeedwarddemocrats.org
SUMMARY:Peaceful Farmville Protests for Justice Visibility Brigade
DESCRIPTION:Come join the Farmville Visibility Brigade\, come when you can. \nWe have simple message signs to share or bring your own. This is a collaborative effort of Peaceful Farmville Protest\, Standing Together Farmville\, One Table\, Phunkadelic & more. \nPeaceful activists welcome. And no one is getting paid-fyi. \nSign up
URL:https://www.princeedwarddemocrats.org/event/peaceful-farmville-protests-for-justice-visibility-brigade/
LOCATION:Prince Edward County Courthouse Lawn\, 124 N Main St\, Farmville\, VA\, 23901\, United States
CATEGORIES:Protest
END:VEVENT
BEGIN:VEVENT
DTSTART;TZID=America/New_York:20260328T120000
DTEND;TZID=America/New_York:20260328T140000
DTSTAMP:20260419T132425
CREATED:20260301T233002Z
LAST-MODIFIED:20260301T233002Z
UID:971-1774699200-1774706400@www.princeedwarddemocrats.org
SUMMARY:No Kings March and Protest
DESCRIPTION: 
URL:https://www.princeedwarddemocrats.org/event/no-kings-march-and-protest/
LOCATION:Prince Edward County Courthouse Lawn\, 124 N Main St\, Farmville\, VA\, 23901\, United States
CATEGORIES:Protest
END:VEVENT
END:VCALENDAR