BEGIN:VCALENDAR
VERSION:2.0
PRODID:-//Prince Edward County Democratic Committee - ECPv6.15.17.1//NONSGML v1.0//EN
CALSCALE:GREGORIAN
METHOD:PUBLISH
X-ORIGINAL-URL:https://www.princeedwarddemocrats.org
X-WR-CALDESC:Events for Prince Edward County Democratic Committee
REFRESH-INTERVAL;VALUE=DURATION:PT1H
X-Robots-Tag:noindex
X-PUBLISHED-TTL:PT1H
BEGIN:VTIMEZONE
TZID:America/New_York
BEGIN:DAYLIGHT
TZOFFSETFROM:-0500
TZOFFSETTO:-0400
TZNAME:EDT
DTSTART:20250309T070000
END:DAYLIGHT
BEGIN:STANDARD
TZOFFSETFROM:-0400
TZOFFSETTO:-0500
TZNAME:EST
DTSTART:20251102T060000
END:STANDARD
BEGIN:DAYLIGHT
TZOFFSETFROM:-0500
TZOFFSETTO:-0400
TZNAME:EDT
DTSTART:20260308T070000
END:DAYLIGHT
BEGIN:STANDARD
TZOFFSETFROM:-0400
TZOFFSETTO:-0500
TZNAME:EST
DTSTART:20261101T060000
END:STANDARD
BEGIN:DAYLIGHT
TZOFFSETFROM:-0500
TZOFFSETTO:-0400
TZNAME:EDT
DTSTART:20270314T070000
END:DAYLIGHT
BEGIN:STANDARD
TZOFFSETFROM:-0400
TZOFFSETTO:-0500
TZNAME:EST
DTSTART:20271107T060000
END:STANDARD
END:VTIMEZONE
BEGIN:VEVENT
DTSTART;TZID=America/New_York:20260326T180000
DTEND;TZID=America/New_York:20260326T193000
DTSTAMP:20260421T102843
CREATED:20260301T232858Z
LAST-MODIFIED:20260301T232858Z
UID:968-1774548000-1774553400@www.princeedwarddemocrats.org
SUMMARY:District 4 Prince Edward Supervisor Odessa Pride's Town Hall
DESCRIPTION:Open to all citizens from all districts\, there will be county-wide information.
URL:https://www.princeedwarddemocrats.org/event/district-4-prince-edward-supervisor-odessa-prides-town-hall/
LOCATION:Crawley Forum on College Road at Hampden Sydney College\, Crawley Drive\, Hampden-Sydney\, VA\, 23943\, United States
CATEGORIES:Town Hall
END:VEVENT
END:VCALENDAR